BEGIN:VCALENDAR
VERSION:2.0
PRODID:-//ABRC - ECPv6.15.20//NONSGML v1.0//EN
CALSCALE:GREGORIAN
METHOD:PUBLISH
X-WR-CALNAME:ABRC
X-ORIGINAL-URL:https://abrcpool.com
X-WR-CALDESC:Events for ABRC
REFRESH-INTERVAL;VALUE=DURATION:PT1H
X-Robots-Tag:noindex
X-PUBLISHED-TTL:PT1H
BEGIN:VTIMEZONE
TZID:America/New_York
BEGIN:DAYLIGHT
TZOFFSETFROM:-0500
TZOFFSETTO:-0400
TZNAME:EDT
DTSTART:20250309T070000
END:DAYLIGHT
BEGIN:STANDARD
TZOFFSETFROM:-0400
TZOFFSETTO:-0500
TZNAME:EST
DTSTART:20251102T060000
END:STANDARD
BEGIN:DAYLIGHT
TZOFFSETFROM:-0500
TZOFFSETTO:-0400
TZNAME:EDT
DTSTART:20260308T070000
END:DAYLIGHT
BEGIN:STANDARD
TZOFFSETFROM:-0400
TZOFFSETTO:-0500
TZNAME:EST
DTSTART:20261101T060000
END:STANDARD
BEGIN:DAYLIGHT
TZOFFSETFROM:-0500
TZOFFSETTO:-0400
TZNAME:EDT
DTSTART:20270314T070000
END:DAYLIGHT
BEGIN:STANDARD
TZOFFSETFROM:-0400
TZOFFSETTO:-0500
TZNAME:EST
DTSTART:20271107T060000
END:STANDARD
END:VTIMEZONE
BEGIN:VEVENT
DTSTART;VALUE=DATE:20260301
DTEND;VALUE=DATE:20260315
DTSTAMP:20260425T082438
CREATED:20260301T010327Z
LAST-MODIFIED:20260301T010327Z
UID:1911-1772323200-1773532799@abrcpool.com
SUMMARY:2026 Registration - Returning Members
DESCRIPTION:March 1st-14th\, Sign-ups for returning members begins. \n  \nClick Here to Register
URL:https://abrcpool.com/event/2026-registration/
LOCATION:VA
END:VEVENT
BEGIN:VEVENT
DTSTART;TZID=America/New_York:20260502T170000
DTEND;TZID=America/New_York:20260502T220000
DTSTAMP:20260425T082438
CREATED:20260422T131334Z
LAST-MODIFIED:20260422T131334Z
UID:1926-1777741200-1777759200@abrcpool.com
SUMMARY:2026 Derby de Mayo
DESCRIPTION:Join the ABRC Derby de Mayo Party! Saturday\, May 2nd 5-10pm\nGet ready for an awesome in-person celebration filled with fun\, friends\, and fantastic vibes. Whether you’re here for the derby excitement or just to kick back and enjoy some great company\, this party is the place to be. Don’t miss out on the chance to make unforgettable memories and soak up the lively atmosphere. Bring your energy and let’s make this Derby de Mayo one for the books!
URL:https://abrcpool.com/event/2026-derby-de-mayo/
LOCATION:Alanton Baycliff Rec\, 1500 Stephens Rd\, Virginia Beach\, VA\, 23454\, United States
END:VEVENT
END:VCALENDAR